BEGIN:VCALENDAR
VERSION:2.0
PRODID:-//Mountain View Golf Club - ECPv6.15.20//NONSGML v1.0//EN
CALSCALE:GREGORIAN
METHOD:PUBLISH
X-ORIGINAL-URL:https://mtviewgolfclub.com
X-WR-CALDESC:Events for Mountain View Golf Club
REFRESH-INTERVAL;VALUE=DURATION:PT1H
X-Robots-Tag:noindex
X-PUBLISHED-TTL:PT1H
BEGIN:VTIMEZONE
TZID:America/Phoenix
BEGIN:STANDARD
TZOFFSETFROM:-0700
TZOFFSETTO:-0700
TZNAME:MST
DTSTART:20240101T000000
END:STANDARD
END:VTIMEZONE
BEGIN:VEVENT
DTSTART;TZID=America/Phoenix:20250223T100000
DTEND;TZID=America/Phoenix:20250223T150000
DTSTAMP:20260422T195518
CREATED:20250117T165214Z
LAST-MODIFIED:20250218T215135Z
UID:10000273-1740304800-1740322800@mtviewgolfclub.com
SUMMARY:Presidents' Day Scramble
DESCRIPTION:Mountain View Golf Club is excited to invite you to participate in our upcoming Presidents’ Day Scramble. It promises to be a day filled with fun\, food\, and fantastic golfing experiences. \nDate • February 23\, 2025\nStart Time • 10:00 am (Shotgun Start) \nEntry Fee • $400 per Team\nIncludes Skins Game \n• Package Includes •\n– Green Fee\n— Cart\n– Range Access\n– Delicious Lunch\n– 18-Hole Voucher for a future round of golf \nDon’t miss this opportunity to showcase your golf skills\, enjoy the beautiful surroundings of Mountain View Golf Club. \nWe look forward to welcoming you to Mountain View Golf Club for a memorable Presidents’ Day Scramble!
URL:https://mtviewgolfclub.com/event/presidents-day-scramble-2/
CATEGORIES:4-Person Scramble
END:VEVENT
END:VCALENDAR