BEGIN:VCALENDAR
VERSION:2.0
PRODID:-//Mountain View Golf Club - ECPv6.15.20//NONSGML v1.0//EN
CALSCALE:GREGORIAN
METHOD:PUBLISH
X-WR-CALNAME:Mountain View Golf Club
X-ORIGINAL-URL:https://mtviewgolfclub.com
X-WR-CALDESC:Events for Mountain View Golf Club
REFRESH-INTERVAL;VALUE=DURATION:PT1H
X-Robots-Tag:noindex
X-PUBLISHED-TTL:PT1H
BEGIN:VTIMEZONE
TZID:America/Phoenix
BEGIN:STANDARD
TZOFFSETFROM:-0700
TZOFFSETTO:-0700
TZNAME:MST
DTSTART:20220101T000000
END:STANDARD
END:VTIMEZONE
BEGIN:VEVENT
DTSTART;TZID=America/Phoenix:20260314T090000
DTEND;TZID=America/Phoenix:20260314T150000
DTSTAMP:20260420T065506
CREATED:20260220T174111Z
LAST-MODIFIED:20260220T174111Z
UID:10000368-1773478800-1773500400@mtviewgolfclub.com
SUMMARY:Shamrock Shootout
DESCRIPTION:
URL:https://mtviewgolfclub.com/event/shamrock-shootout-3/
CATEGORIES:4-Person Scramble
END:VEVENT
BEGIN:VEVENT
DTSTART;TZID=America/Phoenix:20260215T100000
DTEND;TZID=America/Phoenix:20260215T150000
DTSTAMP:20260420T065506
CREATED:20260116T194048Z
LAST-MODIFIED:20260116T194048Z
UID:10000367-1771149600-1771167600@mtviewgolfclub.com
SUMMARY:President's Day Scramble - 2/15
DESCRIPTION:
URL:https://mtviewgolfclub.com/event/presidents-day-scramble-2-15/
CATEGORIES:4-Person Scramble
END:VEVENT
BEGIN:VEVENT
DTSTART;TZID=America/Phoenix:20250223T100000
DTEND;TZID=America/Phoenix:20250223T150000
DTSTAMP:20260420T065506
CREATED:20250117T165214Z
LAST-MODIFIED:20250218T215135Z
UID:10000273-1740304800-1740322800@mtviewgolfclub.com
SUMMARY:Presidents' Day Scramble
DESCRIPTION:Mountain View Golf Club is excited to invite you to participate in our upcoming Presidents’ Day Scramble. It promises to be a day filled with fun\, food\, and fantastic golfing experiences. \nDate • February 23\, 2025\nStart Time • 10:00 am (Shotgun Start) \nEntry Fee • $400 per Team\nIncludes Skins Game \n• Package Includes •\n– Green Fee\n— Cart\n– Range Access\n– Delicious Lunch\n– 18-Hole Voucher for a future round of golf \nDon’t miss this opportunity to showcase your golf skills\, enjoy the beautiful surroundings of Mountain View Golf Club. \nWe look forward to welcoming you to Mountain View Golf Club for a memorable Presidents’ Day Scramble!
URL:https://mtviewgolfclub.com/event/presidents-day-scramble-2/
CATEGORIES:4-Person Scramble
END:VEVENT
BEGIN:VEVENT
DTSTART;TZID=America/Phoenix:20241215T100000
DTEND;TZID=America/Phoenix:20241215T150000
DTSTAMP:20260420T065506
CREATED:20241121T163324Z
LAST-MODIFIED:20241121T163324Z
UID:10000272-1734256800-1734274800@mtviewgolfclub.com
SUMMARY:Santa Scramble
DESCRIPTION:Santa Claus Is Coming To Mountain View \nJoin us for the 2024 Santa Scramble \nWinter Series | Sunday\, December 15th \n10:00 AM Shotgun Start  \n  \nPlease bring a NEW UNWRAPPED toy for a child. \nIf all 4 players bring a toy\, your team plays from the RED TEES. \n  \n$400 • Per Team  \nRegistration Includes: Range Balls\, Cart\, Green Fee\, Lunch\, \n& 18 Hole Voucher \n*Skins Game Included*  \nRegistration Deadline: December 11th \nREGISTER HERE
URL:https://mtviewgolfclub.com/event/santa-scramble/
CATEGORIES:4-Person Scramble,Golf Event,Holiday
END:VEVENT
BEGIN:VEVENT
DTSTART;TZID=America/Phoenix:20241117T100000
DTEND;TZID=America/Phoenix:20241117T140000
DTSTAMP:20260420T065506
CREATED:20241024T162640Z
LAST-MODIFIED:20241024T162640Z
UID:10000271-1731837600-1731852000@mtviewgolfclub.com
SUMMARY:Winter Scramble
DESCRIPTION:The season may be cooling down\, but the competition is heating up at Mountain View!  \nWe’re thrilled to invite you to our 9th Annual Winter Scramble on Sunday\, November 17th. This is one of our most exciting events of the year\, and we can’t wait to see everyone out on the course. \nEvent Details \nTime • 10:00 a.m. Shotgun Start\nEntry Fee • $400 per team\n(Includes green fee\, cart\, range\, lunch\, 18-hole voucher\, and skins game.) \nReady to get in on the action? Sign up today using the button below. But hurry – the registration deadline is November 13th\, and spots are filling up fast! \nWe look forward to seeing you on the course for an exciting winter scramble. If you have any questions\, feel free to contact us. \nREGISTER HERE
URL:https://mtviewgolfclub.com/event/winter-scramble/
CATEGORIES:4-Person Scramble
END:VEVENT
BEGIN:VEVENT
DTSTART;TZID=America/Phoenix:20241020T090000
DTEND;TZID=America/Phoenix:20241020T140000
DTSTAMP:20260420T065506
CREATED:20240930T140914Z
LAST-MODIFIED:20241018T201555Z
UID:10000270-1729414800-1729432800@mtviewgolfclub.com
SUMMARY:Oktoberfest 2024
DESCRIPTION:Guten Tag\, \nIt’s time for our 2024 Mountain View Oktoberfest Golf Tournament on Sunday\, October 20th! \n9:00am • Shotgun Start\nEntry fee • $450 per foursome\nincludes Green fees\, cart\, range\, lunch\, and a Skins Game! \nOktoberfest vibes included at no extra charge 🍻  \nSign up now – the deadline to register is October 16th\, and limited spots are available! \nIt’s going to be a blast\, and we’d love to see you there! 
URL:https://mtviewgolfclub.com/event/oktoberfest-2024/
CATEGORIES:4-Person Scramble
END:VEVENT
BEGIN:VEVENT
DTSTART;TZID=America/Phoenix:20240310T100000
DTEND;TZID=America/Phoenix:20240310T170000
DTSTAMP:20260420T065506
CREATED:20240208T192656Z
LAST-MODIFIED:20240208T192656Z
UID:10000013-1710064800-1710090000@mtviewgolfclub.com
SUMMARY:Shamrock Shootout
DESCRIPTION:Start the Year Out Right! \nMark your calendars for our Shamrock Shootout. \nIt’s going to be a day filled with competition\, friends\, and maybe even a bit of luck of the Irish! \nDate • March 10th\, 2024\nStart Time • 10:00 am (Shotgun Start) \nEntry Fee • $420 per Team\nIncludes Skins Game \nPackage Includes:\n– Green Fee\n– Cart\n– Range Balls\n– Delicious Lunch \n– 18-Hole Voucher for a future round of golf \nKick off the day with a Jameson shot on us – It’s the perfect way to start a day of golfing. \nRegistration deadline is March 6th.  \nDon’t miss out – sign up online now! \nWe look forward to welcoming you at Mountain View Golf Club for a memorable Shamrock Shootout! \nREGISTER HERE
URL:https://mtviewgolfclub.com/event/shamrock-shootout-2/
CATEGORIES:4-Person Scramble
ATTACH;FMTTYPE=image/png:https://mtviewgolfclub.com/wp-content/uploads/2024/02/Mountain-View-Shamrock-Shootout-Blog.webp
END:VEVENT
BEGIN:VEVENT
DTSTART;TZID=America/Phoenix:20230326T090000
DTEND;TZID=America/Phoenix:20230326T170000
DTSTAMP:20260420T065506
CREATED:20230301T221811Z
LAST-MODIFIED:20230301T221811Z
UID:10000003-1679821200-1679850000@mtviewgolfclub.com
SUMMARY:Shamrock Shootout
DESCRIPTION:The Shamrock Shootout is coming up this month! • March 26th • 9am Tee Time\n\n\n \n\n\n4 Person Team • $420 per team ($105 per person) \n\n\n \n\n\nIncluded with entry fee\n\n\nPrizes | Cart Fee | Green Fee | Range balls | Skins Game | Lunch Buffet | 18 Hole Voucher |\n\n\nJameson Kick-Off Shot of the Day!\n\n\n \n\n\nThe deadline to register is March 23rd\, register here:\n\n\n\nhttps://mtviewgolfclub.com/upcoming-events/
URL:https://mtviewgolfclub.com/event/shamrock-shootout/
CATEGORIES:4-Person Scramble
ATTACH;FMTTYPE=image/png:https://mtviewgolfclub.com/wp-content/uploads/2023/03/Mt.-View-shamrock-scramble-2023-web-event.webp
END:VEVENT
BEGIN:VEVENT
DTSTART;TZID=America/Phoenix:20230219T090000
DTEND;TZID=America/Phoenix:20230219T170000
DTSTAMP:20260420T065506
CREATED:20230119T172632Z
LAST-MODIFIED:20230119T172632Z
UID:10000001-1676797200-1676826000@mtviewgolfclub.com
SUMMARY:President's Day 2023
DESCRIPTION:
URL:https://mtviewgolfclub.com/event/presidents-day-2023/
CATEGORIES:4-Person Scramble
END:VEVENT
END:VCALENDAR