BEGIN:VCALENDAR
VERSION:2.0
PRODID:-//Mountain View Golf Club - ECPv6.15.20//NONSGML v1.0//EN
CALSCALE:GREGORIAN
METHOD:PUBLISH
X-ORIGINAL-URL:https://mtviewgolfclub.com
X-WR-CALDESC:Events for Mountain View Golf Club
REFRESH-INTERVAL;VALUE=DURATION:PT1H
X-Robots-Tag:noindex
X-PUBLISHED-TTL:PT1H
BEGIN:VTIMEZONE
TZID:America/Phoenix
BEGIN:STANDARD
TZOFFSETFROM:-0700
TZOFFSETTO:-0700
TZNAME:MST
DTSTART:20240101T000000
END:STANDARD
END:VTIMEZONE
BEGIN:VEVENT
DTSTART;TZID=America/Phoenix:20250724T100000
DTEND;TZID=America/Phoenix:20250724T110000
DTSTAMP:20260420T023243
CREATED:20250610T192931Z
LAST-MODIFIED:20250610T192931Z
UID:10000363-1753351200-1753354800@mtviewgolfclub.com
SUMMARY:Junior Camp
DESCRIPTION:We’re excited to announce the 2025 Mt. View Junior Golf Camps. A great way for young golfers to learn\, grow\, and have fun on the course this summer! \n  \nThe camp will run from July 22nd to July 24th\, with sessions each morning from 9:00 am to 11:00 am.  \nOn the final day\, we will start a little later at 10:00 am to allow time for a shortened three-hole course play on holes 10\, 11\, and 18. Following the round\, campers and their families are invited to join us for a BBQ from 12:00 pm to 1:00 pm to celebrate the end of camp. \nThe cost for the camp is $200 per camper\, and the registration deadline is July 18th. To secure a spot\, please register using the button below. \nWe look forward to welcoming your young golfer to what promises to be an enjoyable and rewarding experience at Mountain View Golf Course. \nFor any questions or inquires\, please contact us at  \n(503) 663-4869. \nWe look forward to welcoming your junior golfer to our camp!
URL:https://mtviewgolfclub.com/event/junior-camp/2025-07-24/
END:VEVENT
END:VCALENDAR