BEGIN:VCALENDAR
VERSION:2.0
PRODID:-//Mountain View Golf Club - ECPv6.15.20//NONSGML v1.0//EN
CALSCALE:GREGORIAN
METHOD:PUBLISH
X-ORIGINAL-URL:https://mtviewgolfclub.com
X-WR-CALDESC:Events for Mountain View Golf Club
REFRESH-INTERVAL;VALUE=DURATION:PT1H
X-Robots-Tag:noindex
X-PUBLISHED-TTL:PT1H
BEGIN:VTIMEZONE
TZID:America/Phoenix
BEGIN:STANDARD
TZOFFSETFROM:-0700
TZOFFSETTO:-0700
TZNAME:MST
DTSTART:20230101T000000
END:STANDARD
END:VTIMEZONE
BEGIN:VEVENT
DTSTART;TZID=America/Phoenix:20240801T080000
DTEND;TZID=America/Phoenix:20240815T200000
DTSTAMP:20260420T064938
CREATED:20240730T203804Z
LAST-MODIFIED:20240730T203804Z
UID:10000269-1722499200-1723752000@mtviewgolfclub.com
SUMMARY:Callaway Promotion
DESCRIPTION:Exclusive Callaway promotion at Mountain View Golf Club! \n\nFrom August 1st through August 15th\, purchase top-of-the-line Callaway equipment and enjoy complimentary rounds of golf on us. \n\nPurchase a Callaway Driver or Fairway Wood:  \nReceive 2 free 18-hole rounds. \n\nPurchase a Callaway Putter or Callaway Golf Bag:  \nReceive 1 free 18-hole round. \n\nThis is the perfect opportunity to upgrade your gear and experience our beautiful course at no extra cost. \n\nDon’t miss out on this limited-time offer! \nVisit our Pro Shop to make your purchase and claim your free rounds.
URL:https://mtviewgolfclub.com/event/callaway-promotion/
CATEGORIES:Golf Event
END:VEVENT
END:VCALENDAR